BEGIN:VCALENDAR
VERSION:2.0
PRODID:-//Albany Baptist - ECPv4.6.24//NONSGML v1.0//EN
CALSCALE:GREGORIAN
METHOD:PUBLISH
X-WR-CALNAME:Albany Baptist
X-ORIGINAL-URL:https://albanybaptist.nz
X-WR-CALDESC:Events for Albany Baptist
BEGIN:VEVENT
DTSTART;TZID=UTC+0:20181126T063000
DTEND;TZID=UTC+0:20181126T080000
DTSTAMP:20181219T160145
CREATED:20180430T054508Z
LAST-MODIFIED:20181123T090350Z
UID:1024-1543213800-1543219200@albanybaptist.nz
SUMMARY:Prayer Breakfast
DESCRIPTION:Let’s get together and start the week with prayer. Breakfast provided! \n
URL:https://albanybaptist.nz/event/prayer-breakfast-5/
LOCATION:Albany Baptist Church Office\, 2B William Pickering Dr\, Auckland\, New Zealand
CATEGORIES:What's On
END:VEVENT
BEGIN:VEVENT
DTSTART;TZID=UTC+0:20181202T140000
DTEND;TZID=UTC+0:20181202T170000
DTSTAMP:20181219T160145
CREATED:20180306T205318Z
LAST-MODIFIED:20181123T091008Z
UID:903-1543759200-1543770000@albanybaptist.nz
SUMMARY:Badminton Club
DESCRIPTION:Join us for a friendly game of Badminton! \n
URL:https://albanybaptist.nz/event/badminton-club-3/
LOCATION:Albany Baptist Church\, 6 Bass Road\, Auckland\, New Zealand
CATEGORIES:What's On
END:VEVENT
BEGIN:VEVENT
DTSTART;TZID=UTC+0:20181202T180000
DTEND;TZID=UTC+0:20181202T210000
DTSTAMP:20181219T160145
CREATED:20181123T091855Z
LAST-MODIFIED:20181123T092630Z
UID:1158-1543773600-1543784400@albanybaptist.nz
SUMMARY:Combined Service: Heaven
DESCRIPTION:We’ll be hosting a combined service where other churches will come and join us in fellowship. We’ll start with dinner together before the service. Invite your friends\, it’ll be a great night! \n \n
URL:https://albanybaptist.nz/event/heaven-combined-service/
LOCATION:Albany Baptist Church\, 6 Bass Road\, Auckland\, New Zealand
CATEGORIES:What's On
END:VEVENT
BEGIN:VEVENT
DTSTART;TZID=UTC+0:20181203T063000
DTEND;TZID=UTC+0:20181203T080000
DTSTAMP:20181219T160145
CREATED:20180306T205810Z
LAST-MODIFIED:20181123T090213Z
UID:910-1543818600-1543824000@albanybaptist.nz
SUMMARY:Prayer Breakfast
DESCRIPTION:Let’s get together and start the week with prayer. Breakfast provided! \n
URL:https://albanybaptist.nz/event/prayer-breakfast-3/
LOCATION:Albany Baptist Church Office\, 2B William Pickering Dr\, Auckland\, New Zealand
CATEGORIES:What's On
END:VEVENT
BEGIN:VEVENT
DTSTART;TZID=UTC+0:20181209T123000
DTEND;TZID=UTC+0:20181209T140000
DTSTAMP:20181219T160145
CREATED:20181206T094436Z
LAST-MODIFIED:20181206T094436Z
UID:1172-1544358600-1544364000@albanybaptist.nz
SUMMARY:Baptism Service
DESCRIPTION:We’ve got 3 people getting baptised this Sunday! It’s going to be an awesome time of community and celebration. \nCome along\, bring a picnic and let’s make a day of it! \n
URL:https://albanybaptist.nz/event/baptism-service/
LOCATION:Long Bay Beach\, Long Bay Beach\, Auckland\, New Zealand
CATEGORIES:What's On
END:VEVENT
BEGIN:VEVENT
DTSTART;TZID=UTC+0:20181209T140000
DTEND;TZID=UTC+0:20181209T170000
DTSTAMP:20181219T160145
CREATED:20180306T205243Z
LAST-MODIFIED:20181123T090928Z
UID:901-1544364000-1544374800@albanybaptist.nz
SUMMARY:Badminton Club
DESCRIPTION:Join us for a friendly game of Badminton! \n
URL:https://albanybaptist.nz/event/badminton-club-2/
LOCATION:Albany Baptist Church\, 6 Bass Road\, Auckland\, New Zealand
CATEGORIES:What's On
END:VEVENT
BEGIN:VEVENT
DTSTART;TZID=UTC+0:20181210T063000
DTEND;TZID=UTC+0:20181210T080000
DTSTAMP:20181219T160145
CREATED:20180306T205558Z
LAST-MODIFIED:20181123T090320Z
UID:905-1544423400-1544428800@albanybaptist.nz
SUMMARY:Prayer Breakfast
DESCRIPTION:Let’s get together and start the week with prayer. Breakfast provided! \n
URL:https://albanybaptist.nz/event/prayer-breakfast/
LOCATION:Albany Baptist Church Office\, 2B William Pickering Dr\, Auckland\, New Zealand
CATEGORIES:What's On
END:VEVENT
BEGIN:VEVENT
DTSTART;TZID=UTC+0:20181216T140000
DTEND;TZID=UTC+0:20181216T170000
DTSTAMP:20181219T160145
CREATED:20180903T053245Z
LAST-MODIFIED:20181123T090905Z
UID:1122-1544968800-1544979600@albanybaptist.nz
SUMMARY:Badminton Club
DESCRIPTION:Join us for a friendly game of Badminton! \n
URL:https://albanybaptist.nz/event/badminton-club/
LOCATION:Albany Baptist Church\, 6 Bass Road\, Auckland\, New Zealand
CATEGORIES:What's On
END:VEVENT
BEGIN:VEVENT
DTSTART;TZID=UTC+0:20181216T183000
DTEND;TZID=UTC+0:20181216T203000
DTSTAMP:20181219T160145
CREATED:20181123T093903Z
LAST-MODIFIED:20181123T093903Z
UID:1165-1544985000-1544992200@albanybaptist.nz
SUMMARY:Youth Christmas Party
DESCRIPTION:It’s that time of the year! Let’s party it up at Long Bay beach. We’ll start with some dinner before we do a prezzie swap. Bring a Christmas present that you’d love to get yourself\, with a $15 budget. Make sure it’s gender neutral! \n
URL:https://albanybaptist.nz/event/youth-christmas-party/
LOCATION:Long Bay Beach\, Long Bay Beach\, Auckland\, New Zealand
END:VEVENT
END:VCALENDAR